BEGIN:VCALENDAR
VERSION:2.0
PRODID:-//Myositis Support and Understanding - ECPv6.15.17//NONSGML v1.0//EN
CALSCALE:GREGORIAN
METHOD:PUBLISH
X-ORIGINAL-URL:https://understandingmyositis.org
X-WR-CALDESC:Events for Myositis Support and Understanding
REFRESH-INTERVAL;VALUE=DURATION:PT1H
X-Robots-Tag:noindex
X-PUBLISHED-TTL:PT1H
BEGIN:VTIMEZONE
TZID:America/New_York
BEGIN:DAYLIGHT
TZOFFSETFROM:-0500
TZOFFSETTO:-0400
TZNAME:EDT
DTSTART:20300310T070000
END:DAYLIGHT
BEGIN:STANDARD
TZOFFSETFROM:-0400
TZOFFSETTO:-0500
TZNAME:EST
DTSTART:20301103T060000
END:STANDARD
BEGIN:DAYLIGHT
TZOFFSETFROM:-0500
TZOFFSETTO:-0400
TZNAME:EDT
DTSTART:20310309T070000
END:DAYLIGHT
BEGIN:STANDARD
TZOFFSETFROM:-0400
TZOFFSETTO:-0500
TZNAME:EST
DTSTART:20311102T060000
END:STANDARD
BEGIN:DAYLIGHT
TZOFFSETFROM:-0500
TZOFFSETTO:-0400
TZNAME:EDT
DTSTART:20320314T070000
END:DAYLIGHT
BEGIN:STANDARD
TZOFFSETFROM:-0400
TZOFFSETTO:-0500
TZNAME:EST
DTSTART:20321107T060000
END:STANDARD
END:VTIMEZONE
BEGIN:VEVENT
DTSTART;TZID=America/New_York:20310228T150000
DTEND;TZID=America/New_York:20310228T160000
DTSTAMP:20260420T235749
CREATED:20260307T230631Z
LAST-MODIFIED:20260307T231604Z
UID:10010933-1930057200-1930060800@understandingmyositis.org
SUMMARY:Finding Our Balance: Navigating Myositis and Dysautonomia
DESCRIPTION:[vc_row][vc_column][vc_column_text css=””] \nBi-Monthly on the last Saturday of the Month\n12 PM PST/11 PM MST/2 PM CST/3 PM EST/9 PM CET\n[/vc_column_text][vc_column_text css=””]Are you living with Myositis and also dealing with Dysautonomia or suspect you might be? You’re not alone! It’s common for autoimmune conditions like Myositis to co-occur with Dysautonomia. Join our support group\, offering a safe and nurturing space for individuals managing both conditions. This is an opportunity to share experiences\, find comfort in the community\, and exchange tips and resources for managing symptoms effectively.  \nWhat is Dysautonomia?  \nDysautonomia refers to conditions affecting the autonomic nervous system\, which controls involuntary functions such as heart rate\, blood pressure\, and digestion. Some common subtypes include:   \nPostural Orthostatic Tachycardia Syndrome (POTS)  \nInappropriate Sinus Tachycardia (IST)  \nNeurocardiogenic Syncope (NCS)  \nAutonomic Neuropathy  \nFor more information\, Dysautonomia International is an excellent resource to explore: Dysautonomia International.  \nJoin us to connect\, learn\, and support one another in managing these challenging conditions. [/vc_column_text][/vc_column][/vc_row][vc_row][vc_column]Register Here [/vc_column][/vc_row]
URL:https://understandingmyositis.org/event/finding-our-balance-navigating-myositis-and-dysautonomia/2031-02-28/
LOCATION:MSU Zoom Video Session\, Video session using Zoom
CATEGORIES:Video Support Sessions
ATTACH;FMTTYPE=image/png:https://understandingmyositis.org/wp-content/uploads/2025/09/Dysautonomia-Group-1200-x-630-px-2.png
ORGANIZER;CN="Myositis Support and Understanding (MSU)":MAILTO:info@UnderstandingMyositis.org
END:VEVENT
BEGIN:VEVENT
DTSTART;TZID=America/New_York:20310228T170000
DTEND;TZID=America/New_York:20310228T190000
DTSTAMP:20260420T235749
CREATED:20260308T131539Z
LAST-MODIFIED:20260308T133119Z
UID:10010848-1930064400-1930071600@understandingmyositis.org
SUMMARY:Inclusion Body Myositis (IBM) Support Group
DESCRIPTION:[vc_row][vc_column][vc_column_text css=””] \nLast Friday of the Month on Zoom\n5 PM ET/4 PM CT/3 PM MT/2 PM PT\n[/vc_column_text][vc_column_text css=””]Come join our IBM support group that meets the last Friday of each month.  IBM is a slowly progressive and degenerative muscle disease with no available treatment options.  Hosted by patients with IBM\, this is a safe place to talk about how we can live our best lives and support each other.  You are not alone. \nRunning late?  That’s okay.  Join us anyway. Care partners welcome!  Sessions usually run 90 minutes.[/vc_column_text]Register Here[/vc_column][/vc_row]
URL:https://understandingmyositis.org/event/inclusion-body-myositis-ibm-support-group/2031-02-28/
LOCATION:MSU Zoom Video Session\, Video session using Zoom
CATEGORIES:Video Support Sessions
ATTACH;FMTTYPE=image/png:https://understandingmyositis.org/wp-content/uploads/2025/09/Inclusion-Body-Myositis-Event-Graphic-1200-x-630-px-3.png
ORGANIZER;CN="Myositis Support and Understanding (MSU)":MAILTO:info@UnderstandingMyositis.org
END:VEVENT
BEGIN:VEVENT
DTSTART;TZID=America/New_York:20310303T190000
DTEND;TZID=America/New_York:20310303T210000
DTSTAMP:20260420T235749
CREATED:20211219T151428Z
LAST-MODIFIED:20260131T221504Z
UID:10010538-1930330800-1930338000@understandingmyositis.org
SUMMARY:Men with Myositis Clubhouse Support Room
DESCRIPTION:[vc_row][vc_column] [vc_column_text] \n#MyositisLIFE: Men with Myositis Clubhouse Support Room\nOn Clubhouse\n[/vc_column_text][vc_column_text] \nFirst Monday of the Month\n7 PM ET / 6 PM CT / 5 PM MT / 4 PM PT\n[/vc_column_text][vc_empty_space][vc_column_text] \nMen with Myositis on Clubhouse\nA safe space for men living with myositis to discuss physical and mental health\, barriers\, pitfalls\, and struggles\, and to make meaningful connections. No matter which type of myositis\, join us for real-time discussions. You can join and listen\, or join and share.  \nAll of our Clubhouse support rooms are members only to provide the safest space possible.[/vc_column_text][vc_column_text] \nDownload Clubhouse from your mobile app store\nClubhouse is available for smartphones and some tablets\, including the iPad. \nVisit your app store and search for Clubhouse: \n\n install the app\ncreate your free account with your mobile number\nadd something to your bio (this is how other people can find you)\nJoin the Myositis Support Club\n\nUsing Clubhouse on your computer/laptop\nThere is third-party software\, Clubdeck\, that you can download and install on your computer to use Clubhouse. Clubdeck is available for Windows and Mac OS.  Check out Clubdeck here.[/vc_column_text][vc_empty_space] Join Myositis Support on Clubhouse See All Support Options[vc_row_inner][vc_column_inner][/vc_column_inner][/vc_row_inner][/vc_column][/vc_row][vc_row text_align=”center” text_color=”#fcfcfc” type=”color” bg_color=”#032643″ padding_top=”20″ padding_bottom=”20″][vc_column][vc_row_inner][vc_column_inner][vc_custom_heading text=”Upcoming support and education sessions” font_container=”tag:h3|text_align:center” use_theme_fonts=”yes”]See Upcoming Events[/vc_column_inner][/vc_row_inner][/vc_column][/vc_row]
URL:https://understandingmyositis.org/event/ch-mens-group/2031-03-03/
LOCATION:Clubhouse
CATEGORIES:Clubhouse
ATTACH;FMTTYPE=image/png:https://understandingmyositis.org/wp-content/uploads/2021/12/Mens-Group-1200-x-630-px.png
ORGANIZER;CN="Myositis Support and Understanding (MSU)":MAILTO:info@UnderstandingMyositis.org
END:VEVENT
END:VCALENDAR